BEGIN:VCALENDAR
VERSION:2.0
PRODID:-//wp-events-plugin.com//7.0.3//EN
TZID:America/Montreal
X-WR-TIMEZONE:America/Montreal
BEGIN:VEVENT
UID:89@pierrelucpomerleau.com
DTSTART;TZID=America/Montreal:20240830T200000
DTEND;TZID=America/Montreal:20240830T200000
DTSTAMP:20230811T023501Z
URL:https://pierrelucpomerleau.com/events/saint-hyacinthe-2/
SUMMARY:Saint-Hyacinthe
DESCRIPTION:450 778-3388
CATEGORIES:Montérégie
LOCATION:https://centredesarts.tuxedobillet.com/main/pierre-luc-pomerleau-2
 40830/20240830200000?_gl=1*1ixp5yw*_ga*MjExODYxNzg5Mi4xNjczNDQ4Nzk1*_ga_9J
 0YDPB6SF*MTY4MzkwNjk1NC4xMi4xLjE2ODM5MDY5ODMuMC4wLjA.
END:VEVENT
BEGIN:VTIMEZONE
TZID:America/Montreal
X-LIC-LOCATION:America/Montreal
BEGIN:DAYLIGHT
DTSTART:20240310T030000
TZOFFSETFROM:-0500
TZOFFSETTO:-0400
TZNAME:EDT
END:DAYLIGHT
END:VTIMEZONE
END:VCALENDAR